Package: adSplit Version: 1.77.0 Command: /Library/Frameworks/R.framework/Resources/bin/R CMD INSTALL adSplit StartedAt: 2025-02-09 15:36:29 -0500 (Sun, 09 Feb 2025) EndedAt: 2025-02-09 15:36:53 -0500 (Sun, 09 Feb 2025) EllapsedTime: 23.4 seconds RetCode: 0 Status: OK