Package: adSplit Version: 1.77.0 Command: /home/biocbuild/bbs-3.21-bioc/R/bin/R CMD check --install=check:adSplit.install-out.txt --library=/home/biocbuild/bbs-3.21-bioc/R/site-library --timings adSplit_1.77.0.tar.gz StartedAt: 2025-02-03 20:02:43 -0500 (Mon, 03 Feb 2025) EndedAt: 2025-02-03 20:08:17 -0500 (Mon, 03 Feb 2025) EllapsedTime: 333.6 seconds RetCode: 0 Status: OK CheckDir: adSplit.Rcheck Warnings: 0