Package: adSplit Version: 1.77.0 Command: rm -rf adSplit.buildbin-libdir && mkdir adSplit.buildbin-libdir && E:\biocbuild\bbs-3.21-bioc\R\bin\R.exe CMD INSTALL --build --library=adSplit.buildbin-libdir adSplit_1.77.0.tar.gz StartedAt: 2025-02-04 07:25:24 -0500 (Tue, 04 Feb 2025) EndedAt: 2025-02-04 07:26:06 -0500 (Tue, 04 Feb 2025) EllapsedTime: 42.3 seconds RetCode: 0 Status: OK PackageFile: adSplit_1.77.0.zip PackageFileSize: 357.1 KiB