Package: adSplit Version: 1.77.0 Command: chmod a+r adSplit -R && E:\biocbuild\bbs-3.21-bioc\R\bin\R.exe CMD build --keep-empty-dirs --no-resave-data adSplit StartedAt: 2025-02-03 17:21:35 -0500 (Mon, 03 Feb 2025) EndedAt: 2025-02-03 17:24:31 -0500 (Mon, 03 Feb 2025) EllapsedTime: 175.6 seconds RetCode: 0 Status: OK PackageFile: adSplit_1.77.0.tar.gz PackageFileSize: 288 KiB