Package: adSplit Version: 1.77.0 Command: E:\biocbuild\bbs-3.21-bioc\R\bin\R.exe CMD check --no-multiarch --install=check:adSplit.install-out.txt --library=E:\biocbuild\bbs-3.21-bioc\R\library --no-vignettes --timings adSplit_1.77.0.tar.gz StartedAt: 2025-02-03 22:58:44 -0500 (Mon, 03 Feb 2025) EndedAt: 2025-02-03 23:03:41 -0500 (Mon, 03 Feb 2025) EllapsedTime: 297.1 seconds RetCode: 0 Status: OK CheckDir: adSplit.Rcheck Warnings: 0