Package: adSplit Version: 1.77.0 Command: E:\biocbuild\bbs-3.21-bioc\R\bin\R.exe CMD INSTALL adSplit StartedAt: 2025-02-09 16:01:19 -0500 (Sun, 09 Feb 2025) EndedAt: 2025-02-09 16:01:40 -0500 (Sun, 09 Feb 2025) EllapsedTime: 20.9 seconds RetCode: 0 Status: OK