Package: adverSCarial Version: 1.5.0 Command: rm -rf adverSCarial.buildbin-libdir && mkdir adverSCarial.buildbin-libdir && /Users/biocbuild/BBS/utils/build-universal.sh adverSCarial_1.5.0.tar.gz /Library/Frameworks/R.framework/Resources/bin/R adverSCarial.buildbin-libdir StartedAt: 2025-02-10 00:41:06 -0500 (Mon, 10 Feb 2025) EndedAt: 2025-02-10 00:41:20 -0500 (Mon, 10 Feb 2025) EllapsedTime: 13.9 seconds RetCode: 0 Status: OK PackageFile: adverSCarial_1.5.0.tgz PackageFileSize: 370.4 KiB