Package: affxparser Version: 1.79.1 Command: /home/biocbuild/R/R/bin/R CMD INSTALL affxparser StartedAt: 2025-01-29 19:29:39 -0000 (Wed, 29 Jan 2025) EndedAt: 2025-01-29 19:31:43 -0000 (Wed, 29 Jan 2025) EllapsedTime: 123.8 seconds RetCode: 0 Status: OK