Package: affxparser Version: 1.79.1 Command: /Library/Frameworks/R.framework/Resources/bin/R CMD INSTALL affxparser StartedAt: 2025-02-09 15:03:25 -0500 (Sun, 09 Feb 2025) EndedAt: 2025-02-09 15:04:57 -0500 (Sun, 09 Feb 2025) EllapsedTime: 92.0 seconds RetCode: 0 Status: OK