Package: affy Version: 1.85.1 Command: /home/biocbuild/R/R/bin/R CMD INSTALL affy StartedAt: 2025-01-29 19:32:31 -0000 (Wed, 29 Jan 2025) EndedAt: 2025-01-29 19:32:52 -0000 (Wed, 29 Jan 2025) EllapsedTime: 21.3 seconds RetCode: 0 Status: OK