Package: affy Version: 1.85.1 Command: /Library/Frameworks/R.framework/Resources/bin/R CMD INSTALL affy StartedAt: 2025-02-12 15:05:32 -0500 (Wed, 12 Feb 2025) EndedAt: 2025-02-12 15:06:00 -0500 (Wed, 12 Feb 2025) EllapsedTime: 27.9 seconds RetCode: 0 Status: OK