Package: affy Version: 1.85.1 Command: /home/biocbuild/bbs-3.21-bioc/R/bin/R CMD check --install=check:affy.install-out.txt --library=/home/biocbuild/bbs-3.21-bioc/R/site-library --timings affy_1.85.1.tar.gz StartedAt: 2025-02-09 19:54:34 -0500 (Sun, 09 Feb 2025) EndedAt: 2025-02-09 19:57:21 -0500 (Sun, 09 Feb 2025) EllapsedTime: 167.3 seconds RetCode: 0 Status: WARNINGS CheckDir: affy.Rcheck Warnings: 1