Package: affy Version: 1.85.1 Command: /home/biocbuild/bbs-3.21-bioc/R/bin/R CMD INSTALL affy StartedAt: 2025-02-09 15:12:31 -0500 (Sun, 09 Feb 2025) EndedAt: 2025-02-09 15:12:40 -0500 (Sun, 09 Feb 2025) EllapsedTime: 9.3 seconds RetCode: 0 Status: OK