Package: affy Version: 1.85.1 Command: rm -rf affy.buildbin-libdir && mkdir affy.buildbin-libdir && E:\biocbuild\bbs-3.21-bioc\R\bin\R.exe CMD INSTALL --build --library=affy.buildbin-libdir affy_1.85.1.tar.gz StartedAt: 2025-02-10 07:09:56 -0500 (Mon, 10 Feb 2025) EndedAt: 2025-02-10 07:11:23 -0500 (Mon, 10 Feb 2025) EllapsedTime: 86.6 seconds RetCode: 0 Status: OK PackageFile: affy_1.85.1.zip PackageFileSize: 1.492 MiB