Package: affy Version: 1.85.1 Command: chmod a+r affy -R && E:\biocbuild\bbs-3.21-bioc\R\bin\R.exe CMD build --keep-empty-dirs --no-resave-data affy StartedAt: 2025-02-09 17:09:35 -0500 (Sun, 09 Feb 2025) EndedAt: 2025-02-09 17:11:51 -0500 (Sun, 09 Feb 2025) EllapsedTime: 136.5 seconds RetCode: 0 Status: OK PackageFile: affy_1.85.1.tar.gz PackageFileSize: 1.179 MiB