Package: affy Version: 1.85.1 Command: E:\biocbuild\bbs-3.21-bioc\R\bin\R.exe CMD check --no-multiarch --install=check:affy.install-out.txt --library=E:\biocbuild\bbs-3.21-bioc\R\library --no-vignettes --timings affy_1.85.1.tar.gz StartedAt: 2025-02-09 22:29:46 -0500 (Sun, 09 Feb 2025) EndedAt: 2025-02-09 22:32:17 -0500 (Sun, 09 Feb 2025) EllapsedTime: 151.8 seconds RetCode: 0 Status: WARNINGS CheckDir: affy.Rcheck Warnings: 1