Package: affyILM Version: 1.59.0 Maintainer: Myriam Kroll and Fabrice Berger MaintainerEmail: fabrice.berger at gmail.com git_url: https://git.bioconductor.org/packages/affyILM git_branch: devel git_last_commit: 3485abc git_last_commit_date: 2024-10-29 09:34:12 -0500 (Tue, 29 Oct 2024)