Package: affyILM Version: 1.59.0 Command: /Library/Frameworks/R.framework/Resources/bin/R CMD build --keep-empty-dirs --no-resave-data affyILM StartedAt: 2025-02-03 16:06:24 -0500 (Mon, 03 Feb 2025) EndedAt: 2025-02-03 16:06:43 -0500 (Mon, 03 Feb 2025) EllapsedTime: 19.2 seconds RetCode: 0 Status: OK PackageFile: affyILM_1.59.0.tar.gz PackageFileSize: 233.5 KiB