Package: affyILM Version: 1.59.0 Command: /Library/Frameworks/R.framework/Resources/bin/R CMD check --install=check:affyILM.install-out.txt --library=/Library/Frameworks/R.framework/Resources/library --no-vignettes --timings affyILM_1.59.0.tar.gz StartedAt: 2025-02-09 17:59:50 -0500 (Sun, 09 Feb 2025) EndedAt: 2025-02-09 18:00:35 -0500 (Sun, 09 Feb 2025) EllapsedTime: 44.7 seconds RetCode: 0 Status: OK CheckDir: affyILM.Rcheck Warnings: 0