Package: affyILM Version: 1.59.0 Command: /Library/Frameworks/R.framework/Resources/bin/R CMD INSTALL affyILM StartedAt: 2025-02-09 15:04:34 -0500 (Sun, 09 Feb 2025) EndedAt: 2025-02-09 15:04:39 -0500 (Sun, 09 Feb 2025) EllapsedTime: 4.8 seconds RetCode: 0 Status: OK