Package: affyILM Version: 1.59.0 Command: /home/biocbuild/R/R/bin/R CMD build --keep-empty-dirs --no-resave-data affyILM StartedAt: 2025-01-29 20:46:05 -0000 (Wed, 29 Jan 2025) EndedAt: 2025-01-29 20:47:01 -0000 (Wed, 29 Jan 2025) EllapsedTime: 56.0 seconds RetCode: 0 Status: OK PackageFile: affyILM_1.59.0.tar.gz PackageFileSize: 236.1 KiB