Package: affyILM Version: 1.59.0 Command: rm -rf affyILM.buildbin-libdir && mkdir affyILM.buildbin-libdir && /Users/biocbuild/BBS/utils/build-universal.sh affyILM_1.59.0.tar.gz /Library/Frameworks/R.framework/Resources/bin/R affyILM.buildbin-libdir StartedAt: 2025-02-04 00:21:56 -0500 (Tue, 04 Feb 2025) EndedAt: 2025-02-04 00:22:19 -0500 (Tue, 04 Feb 2025) EllapsedTime: 23.0 seconds RetCode: 0 Status: OK PackageFile: affyILM_1.59.0.tgz PackageFileSize: 505.2 KiB