Package: affyILM Version: 1.59.0 Command: /Library/Frameworks/R.framework/Resources/bin/R CMD build --keep-empty-dirs --no-resave-data affyILM StartedAt: 2025-02-03 15:55:21 -0500 (Mon, 03 Feb 2025) EndedAt: 2025-02-03 15:56:13 -0500 (Mon, 03 Feb 2025) EllapsedTime: 51.6 seconds RetCode: 0 Status: OK PackageFile: affyILM_1.59.0.tar.gz PackageFileSize: 232.9 KiB