Package: affyILM Version: 1.59.0 Command: /home/biocbuild/bbs-3.21-bioc/R/bin/R CMD build --keep-empty-dirs --no-resave-data affyILM StartedAt: 2025-02-09 16:06:44 -0500 (Sun, 09 Feb 2025) EndedAt: 2025-02-09 16:07:24 -0500 (Sun, 09 Feb 2025) EllapsedTime: 40.1 seconds RetCode: 0 Status: OK PackageFile: affyILM_1.59.0.tar.gz PackageFileSize: 233.4 KiB