Package: affyILM Version: 1.59.0 Command: /home/biocbuild/bbs-3.21-bioc/R/bin/R CMD check --install=check:affyILM.install-out.txt --library=/home/biocbuild/bbs-3.21-bioc/R/site-library --timings affyILM_1.59.0.tar.gz StartedAt: 2025-02-03 20:03:17 -0500 (Mon, 03 Feb 2025) EndedAt: 2025-02-03 20:04:56 -0500 (Mon, 03 Feb 2025) EllapsedTime: 98.2 seconds RetCode: 0 Status: OK CheckDir: affyILM.Rcheck Warnings: 0