Package: affyILM Version: 1.59.0 Command: /home/biocbuild/bbs-3.21-bioc/R/bin/R CMD INSTALL affyILM StartedAt: 2025-02-09 15:15:11 -0500 (Sun, 09 Feb 2025) EndedAt: 2025-02-09 15:15:23 -0500 (Sun, 09 Feb 2025) EllapsedTime: 12.4 seconds RetCode: 0 Status: OK