Package: affyILM Version: 1.59.0 Command: rm -rf affyILM.buildbin-libdir && mkdir affyILM.buildbin-libdir && E:\biocbuild\bbs-3.21-bioc\R\bin\R.exe CMD INSTALL --build --library=affyILM.buildbin-libdir affyILM_1.59.0.tar.gz StartedAt: 2025-02-10 07:10:21 -0500 (Mon, 10 Feb 2025) EndedAt: 2025-02-10 07:11:00 -0500 (Mon, 10 Feb 2025) EllapsedTime: 38.5 seconds RetCode: 0 Status: OK PackageFile: affyILM_1.59.0.zip PackageFileSize: 398.7 KiB