Package: affyILM Version: 1.59.0 Command: chmod a+r affyILM -R && E:\biocbuild\bbs-3.21-bioc\R\bin\R.exe CMD build --keep-empty-dirs --no-resave-data affyILM StartedAt: 2025-02-09 17:10:00 -0500 (Sun, 09 Feb 2025) EndedAt: 2025-02-09 17:11:15 -0500 (Sun, 09 Feb 2025) EllapsedTime: 75.0 seconds RetCode: 0 Status: OK PackageFile: affyILM_1.59.0.tar.gz PackageFileSize: 122.7 KiB