Package: affyILM Version: 1.59.0 Command: E:\biocbuild\bbs-3.21-bioc\R\bin\R.exe CMD INSTALL affyILM StartedAt: 2025-02-03 15:54:10 -0500 (Mon, 03 Feb 2025) EndedAt: 2025-02-03 15:54:31 -0500 (Mon, 03 Feb 2025) EllapsedTime: 21.2 seconds RetCode: 0 Status: OK