Package: affyPLM Version: 1.83.3 Command: rm -rf affyPLM.buildbin-libdir && mkdir affyPLM.buildbin-libdir && /Users/biocbuild/BBS/utils/build-universal.sh affyPLM_1.83.3.tar.gz /Library/Frameworks/R.framework/Resources/bin/R affyPLM.buildbin-libdir StartedAt: 2025-02-09 22:05:20 -0500 (Sun, 09 Feb 2025) EndedAt: 2025-02-09 22:05:30 -0500 (Sun, 09 Feb 2025) EllapsedTime: 10.2 seconds RetCode: 0 Status: OK PackageFile: affyPLM_1.83.3.tgz PackageFileSize: 4.486 MiB