Package: affyPLM Version: 1.83.3 Command: /Library/Frameworks/R.framework/Resources/bin/R CMD check --install=check:affyPLM.install-out.txt --library=/Library/Frameworks/R.framework/Resources/library --no-vignettes --timings affyPLM_1.83.3.tar.gz StartedAt: 2025-02-09 18:00:02 -0500 (Sun, 09 Feb 2025) EndedAt: 2025-02-09 18:01:12 -0500 (Sun, 09 Feb 2025) EllapsedTime: 69.9 seconds RetCode: 0 Status: OK CheckDir: affyPLM.Rcheck Warnings: 0