Package: affyPLM Version: 1.83.3 Command: /home/biocbuild/R/R/bin/R CMD INSTALL affyPLM StartedAt: 2025-01-29 19:40:50 -0000 (Wed, 29 Jan 2025) EndedAt: 2025-01-29 19:41:18 -0000 (Wed, 29 Jan 2025) EllapsedTime: 28.6 seconds RetCode: 0 Status: OK