Package: affyPLM Version: 1.83.3 Command: /Library/Frameworks/R.framework/Resources/bin/R CMD build --keep-empty-dirs --no-resave-data affyPLM StartedAt: 2025-02-09 15:51:56 -0500 (Sun, 09 Feb 2025) EndedAt: 2025-02-09 15:54:42 -0500 (Sun, 09 Feb 2025) EllapsedTime: 165.9 seconds RetCode: 0 Status: OK PackageFile: affyPLM_1.83.3.tar.gz PackageFileSize: 6.292 MiB