Package: affyPLM Version: 1.83.3 Command: /Library/Frameworks/R.framework/Resources/bin/R CMD INSTALL affyPLM StartedAt: 2025-02-09 15:11:02 -0500 (Sun, 09 Feb 2025) EndedAt: 2025-02-09 15:11:32 -0500 (Sun, 09 Feb 2025) EllapsedTime: 30.6 seconds RetCode: 0 Status: OK