Package: affyPLM Version: 1.83.3 Command: rm -rf affyPLM.buildbin-libdir && mkdir affyPLM.buildbin-libdir && E:\biocbuild\bbs-3.21-bioc\R\bin\R.exe CMD INSTALL --build --library=affyPLM.buildbin-libdir affyPLM_1.83.3.tar.gz StartedAt: 2025-02-10 07:10:26 -0500 (Mon, 10 Feb 2025) EndedAt: 2025-02-10 07:12:16 -0500 (Mon, 10 Feb 2025) EllapsedTime: 109.7 seconds RetCode: 0 Status: OK PackageFile: affyPLM_1.83.3.zip PackageFileSize: 2.8 MiB