Package: affyPLM Version: 1.83.3 Command: chmod a+r affyPLM -R && E:\biocbuild\bbs-3.21-bioc\R\bin\R.exe CMD build --keep-empty-dirs --no-resave-data affyPLM StartedAt: 2025-02-09 17:10:08 -0500 (Sun, 09 Feb 2025) EndedAt: 2025-02-09 17:14:31 -0500 (Sun, 09 Feb 2025) EllapsedTime: 262.7 seconds RetCode: 0 Status: OK PackageFile: affyPLM_1.83.3.tar.gz PackageFileSize: 4.566 MiB