Package: affyPLM Version: 1.83.3 Command: E:\biocbuild\bbs-3.21-bioc\R\bin\R.exe CMD check --no-multiarch --install=check:affyPLM.install-out.txt --library=E:\biocbuild\bbs-3.21-bioc\R\library --no-vignettes --timings affyPLM_1.83.3.tar.gz StartedAt: 2025-02-04 22:56:37 -0500 (Tue, 04 Feb 2025) EndedAt: 2025-02-04 22:59:26 -0500 (Tue, 04 Feb 2025) EllapsedTime: 169.1 seconds RetCode: 0 Status: WARNINGS CheckDir: affyPLM.Rcheck Warnings: 1