Package: affyPLM Version: 1.83.3 Command: E:\biocbuild\bbs-3.21-bioc\R\bin\R.exe CMD INSTALL affyPLM StartedAt: 2025-02-09 15:42:37 -0500 (Sun, 09 Feb 2025) EndedAt: 2025-02-09 15:43:54 -0500 (Sun, 09 Feb 2025) EllapsedTime: 77.1 seconds RetCode: 0 Status: OK