Package: affycomp Version: 1.83.0 Command: /home/biocbuild/R/R/bin/R CMD build --keep-empty-dirs --no-resave-data affycomp StartedAt: 2025-01-29 20:45:45 -0000 (Wed, 29 Jan 2025) EndedAt: 2025-01-29 20:45:58 -0000 (Wed, 29 Jan 2025) EllapsedTime: 13.0 seconds RetCode: 0 Status: OK PackageFile: affycomp_1.83.0.tar.gz PackageFileSize: 7.972 MiB