Package: affycomp Version: 1.83.0 Command: chmod a+r affycomp -R && E:\biocbuild\bbs-3.21-bioc\R\bin\R.exe CMD build --keep-empty-dirs --no-resave-data affycomp StartedAt: 2025-02-09 17:09:45 -0500 (Sun, 09 Feb 2025) EndedAt: 2025-02-09 17:10:14 -0500 (Sun, 09 Feb 2025) EllapsedTime: 29.3 seconds RetCode: 0 Status: OK PackageFile: affycomp_1.83.0.tar.gz PackageFileSize: 7.877 MiB