Package: affycomp Version: 1.83.0 Command: E:\biocbuild\bbs-3.21-bioc\R\bin\R.exe CMD INSTALL affycomp StartedAt: 2025-02-09 15:23:56 -0500 (Sun, 09 Feb 2025) EndedAt: 2025-02-09 15:24:18 -0500 (Sun, 09 Feb 2025) EllapsedTime: 21.9 seconds RetCode: 0 Status: OK