Package: affycoretools Version: 1.79.0 Command: rm -rf affycoretools.buildbin-libdir && mkdir affycoretools.buildbin-libdir && /Users/biocbuild/BBS/utils/build-universal.sh affycoretools_1.79.0.tar.gz /Library/Frameworks/R.framework/Resources/bin/R affycoretools.buildbin-libdir StartedAt: 2025-02-09 22:05:18 -0500 (Sun, 09 Feb 2025) EndedAt: 2025-02-09 22:05:44 -0500 (Sun, 09 Feb 2025) EllapsedTime: 26.5 seconds RetCode: 0 Status: OK PackageFile: affycoretools_1.79.0.tgz PackageFileSize: 576.7 KiB