Package: affycoretools Version: 1.79.0 Command: /Library/Frameworks/R.framework/Resources/bin/R CMD build --keep-empty-dirs --no-resave-data affycoretools StartedAt: 2025-02-09 15:31:32 -0500 (Sun, 09 Feb 2025) EndedAt: 2025-02-09 15:32:09 -0500 (Sun, 09 Feb 2025) EllapsedTime: 36.4 seconds RetCode: 0 Status: OK PackageFile: affycoretools_1.79.0.tar.gz PackageFileSize: 6.594 MiB