Package: affycoretools Version: 1.79.0 Command: /Library/Frameworks/R.framework/Resources/bin/R CMD check --install=check:affycoretools.install-out.txt --library=/Library/Frameworks/R.framework/Resources/library --no-vignettes --timings affycoretools_1.79.0.tar.gz StartedAt: 2025-02-12 18:00:29 -0500 (Wed, 12 Feb 2025) EndedAt: 2025-02-12 18:03:11 -0500 (Wed, 12 Feb 2025) EllapsedTime: 162.1 seconds RetCode: 0 Status: OK CheckDir: affycoretools.Rcheck Warnings: 0