Package: affycoretools Version: 1.79.0 Command: /Library/Frameworks/R.framework/Resources/bin/R CMD INSTALL affycoretools StartedAt: 2025-02-09 15:21:01 -0500 (Sun, 09 Feb 2025) EndedAt: 2025-02-09 15:21:25 -0500 (Sun, 09 Feb 2025) EllapsedTime: 24.6 seconds RetCode: 0 Status: OK