Package: affycoretools Version: 1.79.0 Command: chmod a+r affycoretools -R && E:\biocbuild\bbs-3.21-bioc\R\bin\R.exe CMD build --keep-empty-dirs --no-resave-data affycoretools StartedAt: 2025-02-09 17:09:48 -0500 (Sun, 09 Feb 2025) EndedAt: 2025-02-09 17:12:15 -0500 (Sun, 09 Feb 2025) EllapsedTime: 146.5 seconds RetCode: 0 Status: OK PackageFile: affycoretools_1.79.0.tar.gz PackageFileSize: 6.588 MiB