Package: affycoretools Version: 1.79.0 Command: E:\biocbuild\bbs-3.21-bioc\R\bin\R.exe CMD check --no-multiarch --install=check:affycoretools.install-out.txt --library=E:\biocbuild\bbs-3.21-bioc\R\library --no-vignettes --timings affycoretools_1.79.0.tar.gz StartedAt: 2025-02-09 22:30:08 -0500 (Sun, 09 Feb 2025) EndedAt: 2025-02-09 22:38:21 -0500 (Sun, 09 Feb 2025) EllapsedTime: 492.4 seconds RetCode: 0 Status: OK CheckDir: affycoretools.Rcheck Warnings: 0