Package: affycoretools Version: 1.79.0 Command: E:\biocbuild\bbs-3.21-bioc\R\bin\R.exe CMD INSTALL affycoretools StartedAt: 2025-02-09 16:47:04 -0500 (Sun, 09 Feb 2025) EndedAt: 2025-02-09 16:48:38 -0500 (Sun, 09 Feb 2025) EllapsedTime: 94.4 seconds RetCode: 0 Status: OK