Package: affylmGUI Version: 1.81.0 Command: /home/biocbuild/R/R/bin/R CMD build --keep-empty-dirs --no-resave-data affylmGUI StartedAt: 2025-01-29 20:46:09 -0000 (Wed, 29 Jan 2025) EndedAt: 2025-01-29 20:46:41 -0000 (Wed, 29 Jan 2025) EllapsedTime: 32.0 seconds RetCode: 0 Status: OK PackageFile: affylmGUI_1.81.0.tar.gz PackageFileSize: 1.753 MiB