Package: affylmGUI Version: 1.81.0 Command: /Library/Frameworks/R.framework/Resources/bin/R CMD build --keep-empty-dirs --no-resave-data affylmGUI StartedAt: 2025-02-03 15:55:26 -0500 (Mon, 03 Feb 2025) EndedAt: 2025-02-03 15:56:04 -0500 (Mon, 03 Feb 2025) EllapsedTime: 37.9 seconds RetCode: 0 Status: OK PackageFile: affylmGUI_1.81.0.tar.gz PackageFileSize: 1.758 MiB